BEGIN:VCALENDAR
VERSION:2.0
PRODID:-//ChamberMaster//Event Calendar 2.0//EN
METHOD:PUBLISH
X-PUBLISHED-TTL:P3D
REFRESH-INTERVAL:P3D
CALSCALE:GREGORIAN
BEGIN:VEVENT
DTSTART:20221206T230000Z
DTEND:20221207T010000Z
X-MICROSOFT-CDO-ALLDAYEVENT:FALSE
SUMMARY:Community Foundation for McHenry County Multi-Chamber Mixer
DESCRIPTION:The Community Foundation for McHenry County invites you to a Multi-Chamber Mixer!\n\nFood\, Beverages\, Prizes\, Networking and Entertainment!
X-ALT-DESC;FMTTYPE=text/html:The Community Foundation for McHenry County invites you to a Multi-Chamber Mixer!<br />\nFood\, Beverages\, Prizes\, Networking and Entertainment!
LOCATION:33 E. Woodstock St. Crystal Lake\, IL
UID:e.2066.4868
SEQUENCE:3
DTSTAMP:20260420T021408Z
URL:https://dev.chainolakeschamber.com/events/details/community-foundation-for-mchenry-county-multi-chamber-mixer-4868
END:VEVENT

END:VCALENDAR
