BEGIN:VCALENDAR
VERSION:2.0
PRODID:-//ChamberMaster//Event Calendar 2.0//EN
METHOD:PUBLISH
X-PUBLISHED-TTL:P3D
REFRESH-INTERVAL:P3D
CALSCALE:GREGORIAN
BEGIN:VEVENT
DTSTART:20211207T230000Z
DTEND:20211208T010000Z
X-MICROSOFT-CDO-ALLDAYEVENT:FALSE
SUMMARY:Community Foundation for McHenry County Multi Chamber Mixer
DESCRIPTION:
X-ALT-DESC;FMTTYPE=text/html:
LOCATION:The Community Foundation for McHenry County
UID:e.2066.4150
SEQUENCE:3
DTSTAMP:20260423T032648Z
URL:https://dev.chainolakeschamber.com/events/details/community-foundation-for-mchenry-county-multi-chamber-mixer-4150
END:VEVENT

END:VCALENDAR
