BEGIN:VCALENDAR
VERSION:2.0
PRODID:-//ChamberMaster//Event Calendar 2.0//EN
METHOD:PUBLISH
X-PUBLISHED-TTL:P3D
REFRESH-INTERVAL:P3D
CALSCALE:GREGORIAN
BEGIN:VEVENT
DTSTART:20230726T150000Z
DTEND:20230726T160000Z
X-MICROSOFT-CDO-ALLDAYEVENT:FALSE
SUMMARY:Communicating with a Person Living with Dementia
DESCRIPTION:During this informative discussion\, Chris Petrik will discuss the part of the brain that controls speech and expression that may be affected by dementia\; how one may communicate effectively using a more positive approach to care\; how to encourage one to live with dignity and their highest ability to perform\; and the behaviors of one living with dementia is always a form of communication.
X-ALT-DESC;FMTTYPE=text/html:During this informative discussion\, Chris&nbsp\;Petrik&nbsp\;will discuss the part of the brain that controls speech and expression that may be affected by dementia\; how one may communicate effectively using a more positive approach to care\; how to encourage one to live with dignity and their highest ability to perform\; and the behaviors of one living with dementia is always a form of communication.
LOCATION:Zoom
UID:e.2066.5247
SEQUENCE:3
DTSTAMP:20260419T140528Z
URL:https://dev.chainolakeschamber.com/events/details/communicating-with-a-person-living-with-dementia-07-26-2023-5247
END:VEVENT

END:VCALENDAR
