BEGIN:VCALENDAR
VERSION:2.0
PRODID:-//ChamberMaster//Event Calendar 2.0//EN
METHOD:PUBLISH
X-PUBLISHED-TTL:P3D
REFRESH-INTERVAL:P3D
CALSCALE:GREGORIAN
BEGIN:VEVENT
DTSTART:20221011T230000Z
DTEND:20221012T000000Z
X-MICROSOFT-CDO-ALLDAYEVENT:FALSE
SUMMARY:Comenzando su negocio en Illinois (Starting your Business in Illinois)
DESCRIPTION:Tienes esp ritu emprendedor? Comenzar un nuevo negocio es un momento emocionante\, pero tambi n puede ser un desaf o. Las preguntas pueden parecer interminables:  D nde se ubicar  mi negocio?  Qu  licencias o permisos se requieren?  C mo obtengo financiaci n?  Estamos aqu  para ayudarte!  Aprenda los elementos b sicos para iniciar un negocio exitoso y obtenga respuestas a las preguntas m s frecuentes!
X-ALT-DESC;FMTTYPE=text/html:&iquest\;Tienes esp&iacute\;ritu emprendedor? Comenzar un nuevo negocio es un momento emocionante\, pero tambi&eacute\;n puede ser un desaf&iacute\;o. Las preguntas pueden parecer interminables: &iquest\;D&oacute\;nde se ubicar&aacute\; mi negocio? &iquest\;Qu&eacute\; licencias o permisos se requieren? &iquest\;C&oacute\;mo obtengo financiaci&oacute\;n? &iexcl\;Estamos aqu&iacute\; para ayudarte! &iexcl\;Aprenda los elementos b&aacute\;sicos para iniciar un negocio exitoso y obtenga respuestas a las preguntas m&aacute\;s frecuentes!
LOCATION:Zoom en vivo
UID:e.2066.4611
SEQUENCE:3
DTSTAMP:20260422T110223Z
URL:https://dev.chainolakeschamber.com/events/details/comenzando-su-negocio-en-illinois-starting-your-business-in-illinois-10-11-2022-4611
END:VEVENT

END:VCALENDAR
