BEGIN:VCALENDAR
VERSION:2.0
PRODID:-//ChamberMaster//Event Calendar 2.0//EN
METHOD:PUBLISH
X-PUBLISHED-TTL:P3D
REFRESH-INTERVAL:P3D
CALSCALE:GREGORIAN
BEGIN:VEVENT
DTSTART:20191205T133000Z
DTEND:20191205T150000Z
X-MICROSOFT-CDO-ALLDAYEVENT:FALSE
SUMMARY:Coffee with your Legislators (DeWitte\, McConchie\, Wilcox)
DESCRIPTION:
X-ALT-DESC;FMTTYPE=text/html:
LOCATION:McHenry County Mental Health Board 620 Dakota St. Crystal Lake\, IL 60012
UID:e.2066.3151
SEQUENCE:3
DTSTAMP:20260424T185925Z
URL:https://dev.chainolakeschamber.com/events/details/coffee-with-your-legislators-dewitte-mcconchie-wilcox-3151
END:VEVENT

END:VCALENDAR
