BEGIN:VCALENDAR
VERSION:2.0
PRODID:-//ChamberMaster//Event Calendar 2.0//EN
METHOD:PUBLISH
X-PUBLISHED-TTL:P3D
REFRESH-INTERVAL:P3D
CALSCALE:GREGORIAN
BEGIN:VEVENT
DTSTART:20230512T140000Z
DTEND:20230512T150000Z
X-MICROSOFT-CDO-ALLDAYEVENT:FALSE
SUMMARY:Coffee Chats
DESCRIPTION:Join us at the next Coffee Chats! Get to know members of the Chamber in a relaxed atmosphere. Laugh\, talk and make new friends! \n\nPlease RSVP here!
X-ALT-DESC;FMTTYPE=text/html:Join us at the next Coffee Chats! Get to know members of the Chamber in a relaxed atmosphere. Laugh\, talk and make new friends!&nbsp\;<br />\nPlease RSVP here!
LOCATION:35009 N. Gilmer Road Volo IL
UID:e.2066.5092
SEQUENCE:3
DTSTAMP:20260419T171319Z
URL:https://dev.chainolakeschamber.com/events/details/coffee-chats-5092
END:VEVENT

END:VCALENDAR
