BEGIN:VCALENDAR
VERSION:2.0
PRODID:-//ChamberMaster//Event Calendar 2.0//EN
METHOD:PUBLISH
X-PUBLISHED-TTL:P3D
REFRESH-INTERVAL:P3D
CALSCALE:GREGORIAN
BEGIN:VEVENT
DTSTART:20230310T150000Z
DTEND:20230310T160000Z
X-MICROSOFT-CDO-ALLDAYEVENT:FALSE
SUMMARY:Coffee Chats
DESCRIPTION:Join us for another Coffee Chat! Meet fellow Chain O'Lakes Chamber members and people who are interested in learning more about the Chain O'Lakes Chamber!
X-ALT-DESC;FMTTYPE=text/html:Join us for another Coffee Chat! Meet fellow Chain O&#39\;Lakes Chamber members and people who are interested in learning more about the Chain O&#39\;Lakes Chamber!
LOCATION:Whistle Stop Cafe 15 E. Grand Ave Fox Lake IL 60020
UID:e.2066.4979
SEQUENCE:3
DTSTAMP:20260419T203222Z
URL:https://dev.chainolakeschamber.com/events/details/coffee-chats-4979
END:VEVENT

END:VCALENDAR
