BEGIN:VCALENDAR
VERSION:2.0
PRODID:-//ChamberMaster//Event Calendar 2.0//EN
METHOD:PUBLISH
X-PUBLISHED-TTL:P3D
REFRESH-INTERVAL:P3D
CALSCALE:GREGORIAN
BEGIN:VEVENT
DTSTART:20180716T150000Z
DTEND:20180720T190000Z
X-MICROSOFT-CDO-ALLDAYEVENT:FALSE
SUMMARY:Cliffwood Farm Summer Horse Camp
DESCRIPTION:For ages 7-13 or with instructor approval\n\n\n\nLove horses or all animals?\n\n\n\nHorse camp is a great introduction to the equine world! Day campers will take a riding lesson each day and learn the basics of horse care. Horse handling and care will be taught in a hands-on situation where students will care for their own horse each day. We will mix it up with crafts and games too! Don't forget to bring a lunch every day!!
X-ALT-DESC;FMTTYPE=text/html:For ages 7-13 or with instructor approval<br />\n<br />\nLove horses or all animals?<br />\n<br />\nHorse camp is a great introduction to the equine world! Day campers will take a riding lesson each day and learn the basics of horse care. Horse handling and care will be taught in a hands-on situation where students will care for their own horse each day. We will mix it up with crafts and games too! Don&#39\;t forget to bring a lunch every day!!
LOCATION:Cliffwood Farm LLC 7713 Tryon Grove Road Richmond IL
UID:e.2066.1165
SEQUENCE:3
DTSTAMP:20260425T204158Z
URL:https://dev.chainolakeschamber.com/events/details/cliffwood-farm-summer-horse-camp-1165
END:VEVENT

END:VCALENDAR
