BEGIN:VCALENDAR
VERSION:2.0
PRODID:-//ChamberMaster//Event Calendar 2.0//EN
METHOD:PUBLISH
X-PUBLISHED-TTL:P3D
REFRESH-INTERVAL:P3D
CALSCALE:GREGORIAN
BEGIN:VEVENT
DTSTART:20190614T140000Z
DTEND:20190615T200000Z
X-MICROSOFT-CDO-ALLDAYEVENT:FALSE
SUMMARY:Church Rummage Sale
DESCRIPTION:The treasures abound this year at our annual rummage sale. Household items\, Christmas\, toys\, clothing for adults and children\, furniture\, and so much more.
X-ALT-DESC;FMTTYPE=text/html:The treasures abound this year at our annual rummage sale. Household items\, Christmas\, toys\, clothing for adults and children\, furniture\, and so much more.
LOCATION:Fox Lake Community Church 25 W. Big Hollow Road Fox Lake Illinois 60020
UID:e.2066.2972
SEQUENCE:3
DTSTAMP:20260425T040031Z
URL:https://dev.chainolakeschamber.com/events/details/church-rummage-sale-2972
END:VEVENT

END:VCALENDAR
