BEGIN:VCALENDAR
VERSION:2.0
PRODID:-//ChamberMaster//Event Calendar 2.0//EN
METHOD:PUBLISH
X-PUBLISHED-TTL:P3D
REFRESH-INTERVAL:P3D
CALSCALE:GREGORIAN
BEGIN:VEVENT
DTSTART:20221224T230000Z
DTEND:20221225T000000Z
X-MICROSOFT-CDO-ALLDAYEVENT:FALSE
SUMMARY:Christmas Eve Service & Christmas Day Worship
DESCRIPTION:Come and worship Jesus' birth on Saturday\, December 24th at 5pm with song\, congregational singing\, and a brief message. Then we invite you back the next day for the Sunday worship service at 11am.
X-ALT-DESC;FMTTYPE=text/html:Come and worship Jesus&#39\; birth on Saturday\, December 24th at 5pm with song\, congregational singing\, and a brief message. Then we invite you back the next day for the Sunday worship service at 11am.&nbsp\;
LOCATION:River Ridge Church 7664 Wilmot Road Spring Grove\, IL 60081
UID:e.2066.4877
SEQUENCE:3
DTSTAMP:20260420T021554Z
URL:https://dev.chainolakeschamber.com/events/details/christmas-eve-service-christmas-day-worship-4877
END:VEVENT

END:VCALENDAR
