BEGIN:VCALENDAR
VERSION:2.0
PRODID:-//ChamberMaster//Event Calendar 2.0//EN
METHOD:PUBLISH
X-PUBLISHED-TTL:P3D
REFRESH-INTERVAL:P3D
CALSCALE:GREGORIAN
BEGIN:VEVENT
DTSTART:20181215T150000Z
DTEND:20181215T220000Z
X-MICROSOFT-CDO-ALLDAYEVENT:FALSE
SUMMARY:Christmas Craft Fair and Bake Sale
DESCRIPTION:Food\n\n\n\nGifts\n\n\n\nRaffles\n\n\n\nMusic
X-ALT-DESC;FMTTYPE=text/html:Food<br />\n<br />\nGifts<br />\n<br />\nRaffles<br />\n<br />\nMusic
LOCATION:Saint Andrew Anglican Chapel 11726 Fox River Rd. Wilmot\, WI Across from Wilmot Mountain
UID:e.2066.1690
SEQUENCE:3
DTSTAMP:20260425T133355Z
URL:https://dev.chainolakeschamber.com/events/details/christmas-craft-fair-and-bake-sale-1690
END:VEVENT

END:VCALENDAR
