BEGIN:VCALENDAR
VERSION:2.0
PRODID:-//ChamberMaster//Event Calendar 2.0//EN
METHOD:PUBLISH
X-PUBLISHED-TTL:P3D
REFRESH-INTERVAL:P3D
CALSCALE:GREGORIAN
BEGIN:VEVENT
DTSTART:20210521T140000Z
DTEND:20210521T210000Z
X-MICROSOFT-CDO-ALLDAYEVENT:FALSE
SUMMARY:Charity Garage and Bake Sale
DESCRIPTION:Located in Richmond\, ???????????????? ???????????? ?????????????????? is a 501(c)3 nonprofit organization that is a refuge\, rehabilitation center\, and retreat for at-risk animals with urgent medical and emotional needs.\n\n \n\nLast year\, Stardust had their roof fixed and unfortunately during the installation the roof was exposed to water during a rainstorm   something Stardust was unaware of until just a few weeks ago. The leaks caused significant damage to the majority of the home and most of the house is uninhabitable\, leaving them with very limited space.\n\nNature's Feed has been a long-time supporter of Stardust Animal Sanctuary and when we heard about the disarray of Stardust's housing situation we knew we ???????????? ???? ???? ?????? ???????? in helping the wonderful sanctuary getting back into their living quarters.\n\n \n\nNature's Feed will be hosting a ?????????????? ???????????? ???????? ?????? ???????? ???????? to help raise funds for Stardust Animal Sanctuary. In addition to our charity sale\, in-person donations of $5.00 or more will receive the option of a bag of ???????? pet food ???? a gift card from a local business who have graciously donated to this cause.\n\n\n\nWe are ???????????????? ???? ???? ???? ???????? ?? ???????????? ??????????????????\, especially in times of need and appreciate your support!
X-ALT-DESC;FMTTYPE=text/html:<div>Located in Richmond\, ???????????????? ???????????? ?????????????????? is a 501(c)3 nonprofit organization that is a refuge\, rehabilitation center\, and retreat for at-risk animals with urgent medical and emotional needs.<br />\n&nbsp\;</div>\n\n<div>Last year\, Stardust had their roof fixed and unfortunately during the installation the roof was exposed to water during a rainstorm &ndash\; something Stardust was unaware of until just a few weeks ago. The leaks caused significant damage to the majority of the home and most of the house is uninhabitable\, leaving them with very limited space.</div>\n\n<div>Nature&rsquo\;s Feed has been a long-time supporter of Stardust Animal Sanctuary and when we heard about the disarray of Stardust&rsquo\;s housing situation we knew we ???????????? ???? ???? ?????? ???????? in helping the wonderful sanctuary getting back into their living quarters.<br />\n&nbsp\;</div>\n\n<div>Nature&rsquo\;s Feed will be hosting a ?????????????? ???????????? ???????? ?????? ???????? ???????? to help raise funds for Stardust Animal Sanctuary. In addition to our charity sale\, in-person donations of $5.00 or more will receive the option of a bag of ???????? pet food ???? a gift card from a local business who have graciously donated to this cause.<br />\n<br />\n<span style="color:rgb(5\, 5\, 5)\; font-family:segoe ui historic\,segoe ui\,helvetica\,arial\,sans-serif\; font-size:15px">We are ???????????????? ???? ???? ???? ???????? ?? ???????????? ??????????????????\, especially in times of need and appreciate your support!</span></div>\n
LOCATION:The multi-day charity event will be behind Nature's Feed on Highview St. (2440 Highview St.)
UID:e.2066.4042
SEQUENCE:3
DTSTAMP:20260423T145235Z
URL:https://dev.chainolakeschamber.com/events/details/charity-garage-and-bake-sale-4042
END:VEVENT

END:VCALENDAR
