BEGIN:VCALENDAR
VERSION:2.0
PRODID:-//ChamberMaster//Event Calendar 2.0//EN
METHOD:PUBLISH
X-PUBLISHED-TTL:P3D
REFRESH-INTERVAL:P3D
CALSCALE:GREGORIAN
BEGIN:VEVENT
DTSTART:20230708T160000Z
DTEND:20230708T180000Z
X-MICROSOFT-CDO-ALLDAYEVENT:FALSE
SUMMARY:Charity Dog Wash for L.E.A.R.N. at Nature's Feed!
DESCRIPTION:Charity dog wash to benefit L.E.A.R.N. 11am-2pm. Nail Clipping will be offered 11am-1pm.
X-ALT-DESC;FMTTYPE=text/html:<span style="color: rgb(5\, 5\, 5)\; font-family: &quot\;Segoe UI Historic&quot\;\, &quot\;Segoe UI&quot\;\, Helvetica\, Arial\, sans-serif\; font-size: 15px\;">Charity dog wash to benefit L.E.A.R.N. 11am-2pm. Nail Clipping will be offered 11am-1pm.</span>
LOCATION:Nature's Feed 2440 Westward Dr Spring Grove IL
UID:e.2066.5279
SEQUENCE:3
DTSTAMP:20260419T140749Z
URL:https://dev.chainolakeschamber.com/events/details/charity-dog-wash-for-l-e-a-r-n-at-nature-s-feed-5279
END:VEVENT

END:VCALENDAR
