BEGIN:VCALENDAR
VERSION:2.0
PRODID:-//ChamberMaster//Event Calendar 2.0//EN
METHOD:PUBLISH
X-PUBLISHED-TTL:P3D
REFRESH-INTERVAL:P3D
CALSCALE:GREGORIAN
BEGIN:VEVENT
DTSTART:20230831T233000Z
DTEND:20230901T010000Z
X-MICROSOFT-CDO-ALLDAYEVENT:FALSE
SUMMARY:Chapel Hill Bodyworks - Raise Your Frequency to Raise Your Health
DESCRIPTION:Ever Wonder Why Mainstream Health and Wellness Trends Aren't Working For YOU?\n\n\n\nEverything is made up of frequencies: materials\, plants\, food\, even our bodies\,\n\ntissues\, and organs. Everything we consume\, watch\, wear and interact with can affect this. When we can biohack our lives to raise our natural frequencies\, whether that be our emotions\, energy levels\, immune system or more\, we can support our health and vitality.\n\nJoin Integrative Nutrition and Women's Health Coach Caitlyn Novakovic and Licensed Acupuncturist and Biofeedback Specialist Patty Engelhardt for a night of frequency wellness. We'll start with a brief presentation on frequency and how we can use it to live and thrive. Then ....the first 10 people to reserve their spot will receive a 15 minute frequency scan session using the Healy Frequency Device.\n\nThe Healy tunes into your own unique frequency field\, scanning for imbalances in the physical\, emotional\, and mental areas of your life\, then sends you the specific\n\nfrequencies YOU need to thrive using Individual Microcurrent Frequencies (IMF). We can use this information to dive deeper into what is blocking you from reaching your health and wellness goals.\n\n\n\nTickets: $30/each
X-ALT-DESC;FMTTYPE=text/html:<span style="border: 0px\; font-variant-numeric: inherit\; font-variant-east-asian: inherit\; font-variant-alternates: inherit\; font-stretch: inherit\; font-size: 16px\; line-height: inherit\; font-family: &quot\;Helvetica Neue&quot\;\, Helvetica\, Arial\, sans-serif\; font-optical-sizing: inherit\; font-kerning: inherit\; font-feature-settings: inherit\; font-variation-settings: inherit\; margin: 0px\; padding: 0px\; vertical-align: baseline\; color: rgb(142\, 68\, 173)\; text-align: center\;"><strong>Ever Wonder Why Mainstream Health and Wellness Trends Aren&#39\;t Working For YOU?</strong></span><br aria-hidden="true" style="font-family: &quot\;Helvetica Neue&quot\;\, Helvetica\, Arial\, sans-serif\; font-size: 16px\; text-align: center\;" />\n<br aria-hidden="true" style="font-family: &quot\;Helvetica Neue&quot\;\, Helvetica\, Arial\, sans-serif\; font-size: 16px\; text-align: center\;" />\n<span style="border: 0px\; font-variant-numeric: inherit\; font-variant-east-asian: inherit\; font-variant-alternates: inherit\; font-stretch: inherit\; font-size: 12px\; line-height: inherit\; font-family: &quot\;Helvetica Neue&quot\;\, Helvetica\, Arial\, sans-serif\; font-optical-sizing: inherit\; font-kerning: inherit\; font-feature-settings: inherit\; font-variation-settings: inherit\; margin: 0px\; padding: 0px\; vertical-align: baseline\; text-align: center\;"><span style="border: 0px\; font-style: inherit\; font-variant: inherit\; font-weight: inherit\; font-stretch: inherit\; font-size: inherit\; line-height: inherit\; font-family: Verdana\, Geneva\, sans-serif\; font-optical-sizing: inherit\; font-kerning: inherit\; font-feature-settings: inherit\; font-variation-settings: inherit\; margin: 0px\; padding: 0px\; vertical-align: baseline\; color: inherit\;">Everything is made up of frequencies: materials\, plants\, food\, even our bodies\,<br aria-hidden="true" />\ntissues\, and organs. Everything we consume\, watch\, wear and interact with can affect this. When we can biohack our lives to raise our natural frequencies\, whether that be our emotions\, energy levels\, immune system or more\, we can support our health and vitality.<br aria-hidden="true" />\nJoin Integrative Nutrition and Women&#39\;s Health Coach Caitlyn Novakovic and Licensed Acupuncturist and Biofeedback Specialist Patty Engelhardt for a night of frequency wellness. We&#39\;ll start with a brief presentation on frequency and how we can use it to live and thrive. Then ....the first 10 people to reserve their spot will receive a 15 minute&nbsp\;<strong><span style="border: 0px\; font: inherit\; margin: 0px\; padding: 0px\; vertical-align: baseline\; color: rgb(22\, 160\, 133)\;">frequency scan</span></strong><span style="border: 0px\; font: inherit\; margin: 0px\; padding: 0px\; vertical-align: baseline\; color: rgb(142\, 68\, 173)\;">&nbsp\;</span>session using the Healy Frequency Device.<br aria-hidden="true" />\n<span style="border: 0px\; font: inherit\; margin: 0px\; padding: 0px\; vertical-align: baseline\; color: rgb(142\, 68\, 173)\;"><em>The Healy tunes into your own unique frequency field\, scanning for imbalances in the physical\, emotional\, and mental areas of your life\, then sends you the specific<br aria-hidden="true" />\nfrequencies&nbsp\;<strong>YOU</strong>&nbsp\;need to thrive using Individual Microcurrent Frequencies (IMF). We can use this information to dive deeper into what is blocking you from reaching your health and wellness goals.</em></span></span></span><br aria-hidden="true" style="font-family: &quot\;Helvetica Neue&quot\;\, Helvetica\, Arial\, sans-serif\; font-size: 16px\; text-align: center\;" />\n<br aria-hidden="true" style="font-family: &quot\;Helvetica Neue&quot\;\, Helvetica\, Arial\, sans-serif\; font-size: 16px\; text-align: center\;" />\n<span style="border: 0px\; font-variant-numeric: inherit\; font-variant-east-asian: inherit\; font-variant-alternates: inherit\; font-stretch: inherit\; font-size: 12px\; line-height: inherit\; font-family: &quot\;Helvetica Neue&quot\;\, Helvetica\, Arial\, sans-serif\; font-optical-sizing: inherit\; font-kerning: inherit\; font-feature-settings: inherit\; font-variation-settings: inherit\; margin: 0px\; padding: 0px\; vertical-align: baseline\; text-align: center\;"><span style="border: 0px\; font-style: inherit\; font-variant: inherit\; font-weight: inherit\; font-stretch: inherit\; font-size: inherit\; line-height: inherit\; font-family: Verdana\, Geneva\, sans-serif\; font-optical-sizing: inherit\; font-kerning: inherit\; font-feature-settings: inherit\; font-variation-settings: inherit\; margin: 0px\; padding: 0px\; vertical-align: baseline\; color: inherit\;"><span style="border: 0px\; font: inherit\; margin: 0px\; padding: 0px\; vertical-align: baseline\; color: rgb(39\, 174\, 96)\;"><strong>Tickets: $30/each</strong></span></span></span>
LOCATION:Chapel Hill Bodyworks 3520 N. Chapel Hill Road Johnsburg\, IL 60051
UID:e.2066.5368
SEQUENCE:3
DTSTAMP:20260419T122305Z
URL:https://dev.chainolakeschamber.com/events/details/chapel-hill-bodyworks-raise-your-frequency-to-raise-your-health-5368
END:VEVENT

END:VCALENDAR
