BEGIN:VCALENDAR
VERSION:2.0
PRODID:-//ChamberMaster//Event Calendar 2.0//EN
METHOD:PUBLISH
X-PUBLISHED-TTL:P3D
REFRESH-INTERVAL:P3D
CALSCALE:GREGORIAN
BEGIN:VEVENT
DTSTART:20220825T230000Z
DTEND:20220826T010000Z
X-MICROSOFT-CDO-ALLDAYEVENT:FALSE
SUMMARY:Chapel Hill Bodyworks - Paint\, Plant\, Sip
DESCRIPTION:Join us for an evening of fun\, creativity\, and socialization!\n\n\n\nYou will be able to Paint your own 6" terra cotta pot and plant a houseplant of your choice!\n\n\n\nThe event is BYOB. Small snacks and ice for drinks will be available.\n\n\n\nThe event will be located at our Fox Lake location- 62 E. Grand Ave. Suite B. Spots are limited! Register here
X-ALT-DESC;FMTTYPE=text/html:<span style="font-family: &quot\;Square Market&quot\;\; font-size: 14px\; background-color: rgb(255\, 255\, 255)\;"><strong><span style="font-size:18px\;">Join us for an evening of fun\, creativity\, and socialization!</span></strong><br />\n<br />\nYou will be able to Paint your own 6&quot\; terra cotta pot and plant a houseplant of your choice!<br />\n<br />\nThe event is BYOB. Small snacks and ice for drinks will be available.<br />\n<br />\nThe event will be located at our Fox Lake location- 62 E. Grand Ave. Suite B. Spots are limited! Register here</span>
LOCATION:Chapel Hill Bodyworks Wellness Center East\, 62 E. Grand Ave. Suite B.\, Fox Lake IL
UID:e.2066.4580
SEQUENCE:3
DTSTAMP:20260422T135512Z
URL:https://dev.chainolakeschamber.com/events/details/chapel-hill-bodyworks-paint-plant-sip-4580
END:VEVENT

END:VCALENDAR
