BEGIN:VCALENDAR
VERSION:2.0
PRODID:-//ChamberMaster//Event Calendar 2.0//EN
METHOD:PUBLISH
X-PUBLISHED-TTL:P3D
REFRESH-INTERVAL:P3D
CALSCALE:GREGORIAN
BEGIN:VEVENT
DTSTART:20220316T170000Z
DTEND:20220316T180000Z
X-MICROSOFT-CDO-ALLDAYEVENT:FALSE
SUMMARY:Chapel Hill Body Works Ribbon Cutting
DESCRIPTION:
X-ALT-DESC;FMTTYPE=text/html:
LOCATION:
UID:e.2066.4213
SEQUENCE:3
DTSTAMP:20260422T223933Z
URL:https://dev.chainolakeschamber.com/events/details/chapel-hill-body-works-ribbon-cutting-4213
END:VEVENT

END:VCALENDAR
