BEGIN:VCALENDAR
VERSION:2.0
PRODID:-//ChamberMaster//Event Calendar 2.0//EN
METHOD:PUBLISH
X-PUBLISHED-TTL:P3D
REFRESH-INTERVAL:P3D
CALSCALE:GREGORIAN
BEGIN:VEVENT
DTSTART:20230823T150000Z
DTEND:20230823T154500Z
X-MICROSOFT-CDO-ALLDAYEVENT:FALSE
SUMMARY:Changing Your Brain Can be as Easy as Child's Play
DESCRIPTION:This program consists of 21 simple exercise tools designed for all ages and abilities. Movements are designed to be\n\nperformed seated in a chair with shoes off. The exercises\, based on everyday movements that are natural and organic\, focus on the healthy longevity of the body and brain. Always done to music and good humor and laughter are\n\nguaranteed! Led by: Jenna Eisenberg\, Certified Ageless Grace Educator & Ageless Grace Certified Trainer.
X-ALT-DESC;FMTTYPE=text/html:This program consists of 21 simple exercise tools designed for all ages and abilities. Movements are designed to be<br />\nperformed seated in a chair with shoes off. The exercises\, based on everyday movements that are natural and organic\, focus on the healthy longevity of the body and brain. Always done to music and good humor and laughter are<br />\nguaranteed!&nbsp\;Led by: Jenna Eisenberg\, Certified Ageless Grace Educator &amp\; Ageless Grace Certified Trainer.
LOCATION:Elderwerks Center 251 E. Northwest Hwy\, Palatine\, IL
UID:e.2066.5206
SEQUENCE:3
DTSTAMP:20260419T135537Z
URL:https://dev.chainolakeschamber.com/events/details/changing-your-brain-can-be-as-easy-as-child-s-play-5206
END:VEVENT

END:VCALENDAR
