BEGIN:VCALENDAR
VERSION:2.0
PRODID:-//ChamberMaster//Event Calendar 2.0//EN
METHOD:PUBLISH
X-PUBLISHED-TTL:P3D
REFRESH-INTERVAL:P3D
CALSCALE:GREGORIAN
BEGIN:VEVENT
DTSTART:20181211T233000Z
DTEND:20181212T010000Z
X-MICROSOFT-CDO-ALLDAYEVENT:FALSE
SUMMARY:Chamber Member Dinner & Networking
DESCRIPTION:Please RSVP by Friday December 7th for Final Guarantee / Dinner
X-ALT-DESC;FMTTYPE=text/html:<span style="background-attachment: scroll\; background-clip: border-box\; background-color: transparent\; background-image: none\; background-origin: padding-box\; background-position-x: 0%\; background-position-y: 0%\; background-repeat: repeat\; background-size: auto\; border-bottom-color: rgb(0\, 0\, 0)\; border-bottom-left-radius: 0px\; border-bottom-right-radius: 0px\; border-bottom-style: none\; border-bottom-width: 0px\; border-collapse: separate\; border-image-outset: 0\; border-image-repeat: stretch\; border-image-slice: 100% 1 0\; border-image-source: none\; border-image-width: 1\; border-left-color: rgb(0\, 0\, 0)\; border-left-style: none\; border-left-width: 0px\; border-right-color: rgb(0\, 0\, 0)\; border-right-style: none\; border-right-width: 0px\; border-top-color: rgb(0\, 0\, 0)\; border-top-left-radius: 0px\; border-top-right-radius: 0px\; border-top-style: none\; border-top-width: 0px\; bottom: auto\; box-shadow: none\; box-sizing: content-box\; clear: none\; color: rgb(0\, 0\, 0)\;  direction: ltr\; display: inline\; empty-cells: show\; float: none\; font-family: Verdana\,Geneva\,sans-serif\; font-size: 18px\; font-size-adjust: none\; font-stretch: 100%\; font-style: normal\; font-variant: normal\; font-weight: 400\; height: auto\; left: auto\; letter-spacing: normal\; line-height: 23.4px\; margin-bottom: 0px\; margin-left: 0px\; margin-right: 0px\; margin-top: 0px\; max-height: none\; max-width: none\; min-height: 0px\; min-width: 0px\; opacity: 1\; orphans: 2\; outline-color: invert\; outline-offset: 0px\; outline-style: none\; outline-width: 0px\; overflow: visible\; padding-bottom: 0px\; padding-left: 0px\; padding-right: 0px\; padding-top: 0px\; position: static\; right: auto\; table-layout: auto\; text-align: center\; text-decoration: none\; text-indent: 0px\; text-justify: auto\; text-overflow: clip\; text-transform: none\; top: auto\; vertical-align: baseline\; visibility: visible\; -webkit-text-stroke-width: 0px\; white-space: normal\; width: auto\; word-break: normal\; word-spacing: 0px\; word-wrap: break-word\; z-index: auto\;">Please RSVP by Friday December 7th&nbsp\;for Final Guarantee / Dinner</span><br style="background-attachment: scroll\; background-clip: border-box\; background-color: transparent\; background-image: none\; background-origin: padding-box\; background-position-x: 0%\; background-position-y: 0%\; background-repeat: repeat\; background-size: auto\; border-bottom-color: rgb(0\, 0\, 0)\; border-bottom-left-radius: 0px\; border-bottom-right-radius: 0px\; border-bottom-style: none\; border-bottom-width: 0px\; border-collapse: separate\; border-image-outset: 0\; border-image-repeat: stretch\; border-image-slice: 100% 1 0\; border-image-source: none\; border-image-width: 1\; border-left-color: rgb(0\, 0\, 0)\; border-left-style: none\; border-left-width: 0px\; border-right-color: rgb(0\, 0\, 0)\; border-right-style: none\; border-right-width: 0px\; border-top-color: rgb(0\, 0\, 0)\; border-top-left-radius: 0px\; border-top-right-radius: 0px\; border-top-style: none\; border-top-width: 0px\; bottom: auto\; box-sizing: content-box\; clear: none\; color: rgb(0\, 0\, 0)\;  direction: ltr\; display: inline\; empty-cells: show\; float: none\; font-family: Verdana\,Geneva\,sans-serif\; font-size: 14px\; font-size-adjust: none\; font-stretch: 100%\; font-style: normal\; font-variant: normal\; font-weight: 400\; height: auto\; left: auto\; letter-spacing: normal\; line-height: 18.2px\; margin-bottom: 0px\; margin-left: 0px\; margin-right: 0px\; margin-top: 0px\; max-height: none\; max-width: none\; min-height: 0px\; min-width: 0px\; opacity: 1\; orphans: 2\; outline-color: invert\; outline-offset: 0px\; outline-style: none\; outline-width: 0px\; overflow: visible\; padding-bottom: 0px\; padding-left: 0px\; padding-right: 0px\; padding-top: 0px\; position: static\; right: auto\; table-layout: auto\; text-align: center\; text-decoration: none\; text-indent: 0px\; text-justify: auto\; text-overflow: clip\; text-transform: none\; top: auto\; vertical-align: baseline\; visibility: visible\; -webkit-text-stroke-width: 0px\; white-space: normal\; width: auto\; word-break: normal\; word-spacing: 0px\; word-wrap: break-word\; z-index: auto\;" />\n<span style="display: inline !important\; float: none\; background-color: transparent\; border-collapse: separate\; color: rgb(0\, 0\, 0)\; direction: ltr\; empty-cells: show\; font-family: Verdana\,Geneva\,sans-serif\; font-size: 14px\; font-size-adjust: none\; font-stretch: 100%\; font-style: normal\; font-variant: normal\; font-weight: 400\; letter-spacing: normal\; line-height: 18.2px\; orphans: 2\; text-align: center\; text-decoration: none\; text-indent: 0px\; text-justify: auto\; text-transform: none\; visibility: visible\; -webkit-text-stroke-width: 0px\; white-space: normal\; word-break: normal\; word-spacing: 0px\; word-wrap: break-word\;">&nbsp\;</span>
LOCATION:Moretti's 164 U.S. 12\, Fox Lake\, IL 60020
UID:e.2066.1686
SEQUENCE:3
DTSTAMP:20260425T133053Z
URL:https://dev.chainolakeschamber.com/events/details/chamber-member-dinner-networking-1686
END:VEVENT

END:VCALENDAR
