BEGIN:VCALENDAR
VERSION:2.0
PRODID:-//ChamberMaster//Event Calendar 2.0//EN
METHOD:PUBLISH
X-PUBLISHED-TTL:P3D
REFRESH-INTERVAL:P3D
CALSCALE:GREGORIAN
BEGIN:VEVENT
DTSTART:20180328T171500Z
DTEND:20180328T181500Z
X-MICROSOFT-CDO-ALLDAYEVENT:FALSE
SUMMARY:Chamber Master 101 Lunch and Learn
DESCRIPTION:This one hour tutorial will cover the basics of setting up and updating your member profile in ChamberMaster's MIC (Member Information Center). \n\n\n\nBy joining the RSG Chamber\, members have access to some powerful tools which will help get their businesses noticed in the business directory as well as on search engines. Don't pass up this opportunity to get all the details on how to promote your business on the chamber website!\n\n\n\nThe following topics will be discussed:\n\n	Setting up your Personal Profile\n	Setting up your Company Profile\n	Creating an Event\n	Creating a News Release\n	Creating a Job Posting\n	Member to Member Deals\n	Hot Deals\n	Reporting Tool\n	Enhanced Member Profile\n\n\n\nIf you haven't check out the MIC yet\, go to the Member Login link at the top right hand corner of the website\, create your username/password\, and take a look around.
X-ALT-DESC;FMTTYPE=text/html:This one hour tutorial will cover the basics of setting up and updating&nbsp\;your member profile&nbsp\;in&nbsp\;ChamberMaster&#39\;s&nbsp\;MIC (Member Information Center).&nbsp\;<br />\n<br />\nBy joining the&nbsp\;RSG Chamber\, members&nbsp\;have access to some powerful tools which will help get their businesses noticed in the business directory as well as on search engines. Don&#39\;t pass up this opportunity to get all the details on how to promote your business on the chamber website!<br />\n<br />\nThe following topics will be discussed:\n<ul>\n	<li>Setting up your Personal Profile</li>\n	<li>Setting up your Company Profile</li>\n	<li>Creating an Event</li>\n	<li>Creating a News Release</li>\n	<li>Creating a Job Posting</li>\n	<li>Member to Member Deals</li>\n	<li>Hot Deals</li>\n	<li>Reporting Tool</li>\n	<li>Enhanced Member Profile</li>\n</ul>\n<br />\nIf you haven&#39\;t check out the MIC yet\, go to the Member Login link at the top right hand corner of the website\, create your username/password\, and take a look around.&nbsp\;<br />\n<br />\n&nbsp\;
LOCATION:Chamber Office 10910 North Main St Richmond\, IL 60071
UID:e.2066.930
SEQUENCE:3
DTSTAMP:20260426T030145Z
URL:https://dev.chainolakeschamber.com/events/details/chamber-master-101-lunch-and-learn-930
END:VEVENT

END:VCALENDAR
