BEGIN:VCALENDAR
VERSION:2.0
PRODID:-//ChamberMaster//Event Calendar 2.0//EN
METHOD:PUBLISH
X-PUBLISHED-TTL:P3D
REFRESH-INTERVAL:P3D
CALSCALE:GREGORIAN
BEGIN:VEVENT
DTSTART:20230317T000000Z
DTEND:20230317T010000Z
X-MICROSOFT-CDO-ALLDAYEVENT:FALSE
SUMMARY:Chain O'Lakes/Fox River Watershed - Educational Meeting: Excess Nutrients
DESCRIPTION:With funding from the Illinois Environmental Protection Agency (IEPA) Section 319 program\, the Fox Waterway Agency is taking the lead in overseeing the development of a Watershed Based Plan (WBP)\, which is a strategy and work plan for identifying existing water quality issues and identifying potential solutions to protect and enhance water quality.\n\n \n\nThe key to success in this effort is educating those watershed stakeholders on the various issues and encouraging their active involvement in both the watershed planning and watershed plan implementation phases.\n\nAs part of this effort\, education outreach presentations are being scheduled on the current state of water quality issues and conditions of the Fox Chain O'Lakes\, as well as opportunities for watershed stakeholders to help address these problems.\n\n \n\nThis meeting will be an educational meeting on Excess Nutrients. Please join us and learn how the watershed plan will help the Chain O'Lakes and Fox River.
X-ALT-DESC;FMTTYPE=text/html:<div>With funding from the Illinois Environmental Protection Agency (IEPA) Section 319 program\, the Fox Waterway Agency is taking the lead in overseeing the development of a Watershed Based Plan (WBP)\, which is a strategy and work plan for identifying existing water quality issues and identifying potential solutions to protect and enhance water quality.<br />\n&nbsp\;</div>\n\n<div>The key to success in this effort is educating those watershed stakeholders on the various issues and encouraging their active involvement in both the watershed planning and watershed plan implementation phases.</div>\n\n<div>As part of this effort\, education outreach presentations are being scheduled on the current state of water quality issues and conditions of the Fox Chain O&rsquo\;Lakes\, as well as opportunities for watershed stakeholders to help address these problems.<br />\n&nbsp\;</div>\n\n<div>This meeting will be an educational meeting on Excess Nutrients. Please join us and learn how the watershed plan will help the Chain O&#39\;Lakes and Fox River.</div>\n
LOCATION:Fox Waterway Agency 45 S. Pistakee Lake Road Fox Lake\, IL 60020
UID:e.2066.5014
SEQUENCE:3
DTSTAMP:20260419T203856Z
URL:https://dev.chainolakeschamber.com/events/details/chain-o-lakes-fox-river-watershed-educational-meeting-excess-nutrients-5014
END:VEVENT

END:VCALENDAR
