BEGIN:VCALENDAR
VERSION:2.0
PRODID:-//ChamberMaster//Event Calendar 2.0//EN
METHOD:PUBLISH
X-PUBLISHED-TTL:P3D
REFRESH-INTERVAL:P3D
CALSCALE:GREGORIAN
BEGIN:VEVENT
DTSTART:20230525T130000Z
DTEND:20230525T140000Z
X-MICROSOFT-CDO-ALLDAYEVENT:FALSE
SUMMARY:*Chain Makers Referral Group Meeting
DESCRIPTION:Chain Makers Referral Group Meeting\n\n\n\nThis group will meet monthly on the 2nd and 4th Thursdays from 8:00am-9:00am
X-ALT-DESC;FMTTYPE=text/html:Chain Makers Referral Group Meeting<br />\n<br />\nThis group will meet monthly on the 2nd and 4th Thursdays from 8:00am-9:00am
LOCATION:Paradise Financial Partners 2400-A Johnsburg Rd. Johnsburg\, IL
UID:e.2066.5069
SEQUENCE:3
DTSTAMP:20260419T172124Z
URL:https://dev.chainolakeschamber.com/events/details/chain-makers-referral-group-meeting-5069
END:VEVENT

END:VCALENDAR
