BEGIN:VCALENDAR
VERSION:2.0
PRODID:-//ChamberMaster//Event Calendar 2.0//EN
METHOD:PUBLISH
X-PUBLISHED-TTL:P3D
REFRESH-INTERVAL:P3D
CALSCALE:GREGORIAN
BEGIN:VEVENT
DTSTART:20230323T130000Z
DTEND:20230323T140000Z
X-MICROSOFT-CDO-ALLDAYEVENT:FALSE
SUMMARY:Chain Makers Referral Group Meeting
DESCRIPTION:Chain Makers Referral Group Meets twice monthly on the 2nd and 4th Thursdays of the month.
X-ALT-DESC;FMTTYPE=text/html:Chain Makers Referral Group Meets twice monthly on the 2nd and 4th Thursdays of the month.
LOCATION:Paradise Financial 2400A Johnsburg Road Johnsburg\, IL 60051
UID:e.2066.5049
SEQUENCE:3
DTSTAMP:20260419T203423Z
URL:https://dev.chainolakeschamber.com/events/details/chain-makers-referral-group-meeting-5049
END:VEVENT

END:VCALENDAR
