BEGIN:VCALENDAR
VERSION:2.0
PRODID:-//ChamberMaster//Event Calendar 2.0//EN
METHOD:PUBLISH
X-PUBLISHED-TTL:P3D
REFRESH-INTERVAL:P3D
CALSCALE:GREGORIAN
BEGIN:VEVENT
DTSTART:20230701T160000Z
DTEND:20230702T020000Z
X-MICROSOFT-CDO-ALLDAYEVENT:FALSE
SUMMARY:Celebrate Fox Lake!
DESCRIPTION:Join us to celebrate Independence Day at Celebrate Fox Lake!\n\nLive Music! Food Vendors! Car Show! Watermelon Eating Contest! Parade! Fireworks!
X-ALT-DESC;FMTTYPE=text/html:Join us to celebrate Independence Day at Celebrate Fox Lake!<br />\nLive Music! Food Vendors! Car Show! Watermelon Eating Contest! Parade! Fireworks!
LOCATION:Grant High School\, Millenium Park\, Nippersink Lake
UID:e.2066.5259
SEQUENCE:3
DTSTAMP:20260419T135103Z
URL:https://dev.chainolakeschamber.com/events/details/celebrate-fox-lake-5259
END:VEVENT

END:VCALENDAR
