BEGIN:VCALENDAR
VERSION:2.0
PRODID:-//ChamberMaster//Event Calendar 2.0//EN
METHOD:PUBLISH
X-PUBLISHED-TTL:P3D
REFRESH-INTERVAL:P3D
CALSCALE:GREGORIAN
BEGIN:VEVENT
DTSTART:20210703T210000Z
DTEND:20210704T030000Z
X-MICROSOFT-CDO-ALLDAYEVENT:FALSE
SUMMARY:Celebrate FOX LAKE
DESCRIPTION:
X-ALT-DESC;FMTTYPE=text/html:
LOCATION:4:00 pm - Parade on Grand Ave - Red\, White & Blue theme Music @ Lakefront Park 71 Nippersink 5:00 pm - In the Stix 7:30 pm - Karma Committee At Dusk- Fireworks on Nippersink Lake Application for parade float https://www.foxlake.org/DocumentCenter/View/4705/Celebrate-Fox-Lake-Parade-Application
UID:e.2066.4062
SEQUENCE:3
DTSTAMP:20260423T111825Z
URL:https://dev.chainolakeschamber.com/events/details/celebrate-fox-lake-4062
END:VEVENT

END:VCALENDAR
