BEGIN:VCALENDAR
VERSION:2.0
PRODID:-//ChamberMaster//Event Calendar 2.0//EN
METHOD:PUBLISH
X-PUBLISHED-TTL:P3D
REFRESH-INTERVAL:P3D
CALSCALE:GREGORIAN
BEGIN:VEVENT
DTSTART:20230812T140000Z
DTEND:20230812T180000Z
X-MICROSOFT-CDO-ALLDAYEVENT:FALSE
SUMMARY:Castle Auto and Riddick's Ride Blood Drive
DESCRIPTION:Riddick's Ride and Castle McHenry support our local communities!\n\nDrive will be held at Castle McHenry in the Cadilac Showroom.\n\nTo schedule your appointment time:\n\nLoad the Versiti Donor app. Go to www.versity.org\n\nAlso\, Donors are automatically entered for a chance to win $1\,200 in e-gift cards and can choose from a variety of merchants to upgrade or replace their home entertainment systems.
X-ALT-DESC;FMTTYPE=text/html:Riddick&#39\;s Ride and Castle McHenry support our local communities!<br />\nDrive will be held at Castle McHenry in the Cadilac Showroom.<br />\nTo schedule your appointment time:<br />\nLoad the Versiti Donor app. Go to www.versity.org<br />\nAlso\, Donors are automatically entered for a chance to win $1\,200 in e-gift cards and can choose from a variety of merchants to upgrade or replace their home entertainment systems.
LOCATION:Castle McHenry 1107 S. Route 31 McHenry IL 60050 Cadilac Showroom
UID:e.2066.5367
SEQUENCE:3
DTSTAMP:20260419T121339Z
URL:https://dev.chainolakeschamber.com/events/details/castle-auto-and-riddick-s-ride-blood-drive-5367
END:VEVENT

END:VCALENDAR
