BEGIN:VCALENDAR
VERSION:2.0
PRODID:-//ChamberMaster//Event Calendar 2.0//EN
METHOD:PUBLISH
X-PUBLISHED-TTL:P3D
REFRESH-INTERVAL:P3D
CALSCALE:GREGORIAN
BEGIN:VEVENT
DTSTART:20200924T140000Z
DTEND:20200924T170000Z
X-MICROSOFT-CDO-ALLDAYEVENT:FALSE
SUMMARY:Cash Resiliency for Small Business
DESCRIPTION:Discover tactics for identifying sources of cash in the next 90 days and solving immediate\, short-term and long-term cash flow challenges. This is a three-hour workshop for CEOs/Owners. Part One: Twenty Tips for Improving Cash Flow Right Now - proven techniques from the "Gravitas Coaching Community" that have succeeded worldwide\, post workshop checklist provided. Part Two: The "Power of One" where 1+1+1= 19 - 7 levers of cash that generate significant cash without having to overhaul your existing business model. Part Three: The Cash Conversion Cycle   a worksheet for improving your business to maximize cash flow\, eliminating mistakes\, shortening cycles\, etc
X-ALT-DESC;FMTTYPE=text/html:Discover tactics for identifying sources of cash in the next 90 days and solving immediate\, short-term and long-term cash flow challenges. This is a three-hour workshop for CEOs/Owners. Part One: Twenty Tips for Improving Cash Flow Right Now - proven techniques from the &ldquo\;Gravitas Coaching Community&rdquo\; that have succeeded worldwide\, post workshop checklist provided. Part Two: The &ldquo\;Power of One&rdquo\; where 1+1+1= 19 - 7 levers of cash that generate significant cash without having to overhaul your existing business model. Part Three: The Cash Conversion Cycle &ndash\; a worksheet for improving your business to maximize cash flow\, eliminating mistakes\, shortening cycles\, etc
LOCATION:Live Zoom
UID:e.2066.3399
SEQUENCE:3
DTSTAMP:20260424T050608Z
URL:https://dev.chainolakeschamber.com/events/details/cash-resiliency-for-small-business-3399
END:VEVENT

END:VCALENDAR
