BEGIN:VCALENDAR
VERSION:2.0
PRODID:-//ChamberMaster//Event Calendar 2.0//EN
METHOD:PUBLISH
X-PUBLISHED-TTL:P3D
REFRESH-INTERVAL:P3D
CALSCALE:GREGORIAN
BEGIN:VEVENT
DTSTART:20230323T000000Z
DTEND:20230323T010000Z
X-MICROSOFT-CDO-ALLDAYEVENT:FALSE
SUMMARY:CASA Virtual Information Session
DESCRIPTION:Our next informational sessions are whether you would like to know more about becoming an Advocate\, Donor\, Supporter or Event Volunteer.  This is a great way to find out more about CASA and get any of your questions answered.
X-ALT-DESC;FMTTYPE=text/html:Our next informational sessions are whether you would like to know more about becoming an Advocate\, Donor\, Supporter or Event Volunteer.&nbsp\; This is a great way to find out more about CASA and get any of your questions answered.&nbsp\;
LOCATION:Virtual - Zoom Register here: https://us02web.zoom.us/meeting/register/tZwscuioqj4jHdSsIoqeJe4wxDRy_UpXbAVy?fbclid=IwAR2MMdm0nOrClv9P-k3Cljoymxxxw482Nz-HzuwVq1C4d-pFSWMTMeDeU3k
UID:e.2066.5047
SEQUENCE:3
DTSTAMP:20260419T203207Z
URL:https://dev.chainolakeschamber.com/events/details/casa-virtual-information-session-5047
END:VEVENT

END:VCALENDAR
