BEGIN:VCALENDAR
VERSION:2.0
PRODID:-//ChamberMaster//Event Calendar 2.0//EN
METHOD:PUBLISH
X-PUBLISHED-TTL:P3D
REFRESH-INTERVAL:P3D
CALSCALE:GREGORIAN
BEGIN:VEVENT
DTSTART:20230617T003000Z
DTEND:20230617T030000Z
X-MICROSOFT-CDO-ALLDAYEVENT:FALSE
SUMMARY:CASA Ride/Walk to Leave a Light On!
DESCRIPTION:Ride/Walk to Leave a Light On! (as a beacon for others) in the Woodstock Square
X-ALT-DESC;FMTTYPE=text/html:Ride/Walk to Leave a Light On! (as a beacon for others) in the Woodstock Square
LOCATION:
UID:e.2066.5243
SEQUENCE:3
DTSTAMP:20260419T171601Z
URL:https://dev.chainolakeschamber.com/events/details/casa-ride-walk-to-leave-a-light-on-5243
END:VEVENT

END:VCALENDAR
