BEGIN:VCALENDAR
VERSION:2.0
PRODID:-//ChamberMaster//Event Calendar 2.0//EN
METHOD:PUBLISH
X-PUBLISHED-TTL:P3D
REFRESH-INTERVAL:P3D
CALSCALE:GREGORIAN
BEGIN:VEVENT
DTSTART:20230815T000000Z
DTEND:20230815T010000Z
X-MICROSOFT-CDO-ALLDAYEVENT:FALSE
SUMMARY:CASA of McHenry County Upcoming Informational Sessions
DESCRIPTION:CASA of McHenry County Upcoming Informational Sessions\n\n \n\nPart of CASA of McHenry County's impact on the community is made through the unceasing efforts of our Volunteer Advocates and Program Advocate Managers to continue to learn.\n\n \n\nTherefore\, CASA Staff provides ongoing Info Sessions as well as access to resources and mandatory Continuing Education Credits which help to serve\, educate\, and inform our volunteers.\n\n \n\nLook for the following upcoming sessions:\n\n \n\n        Info Session - Monday\, August14 @ 7pm on Zoom.\n\n        Teen Programs dealing with Complex Mood Disorders offered through Rosencrance.\n\n        Workforce Training Classes offered through McHenry County College.\n\nContact Sharie Dodge for additional resources and registration information\,
X-ALT-DESC;FMTTYPE=text/html:<p class="x_gmail-MsoNoSpacing" style="margin: 0in 0in 0.0001pt\; font-size: 12pt\; font-family: Arial\, sans-serif\;"><b><u>CASA of McHenry County Upcoming Informational Sessions</u></b></p>\n\n<p class="x_gmail-MsoNoSpacing" style="margin: 0in 0in 0.0001pt\; font-size: 12pt\; font-family: Arial\, sans-serif\;">&nbsp\;</p>\n\n<p class="x_gmail-MsoNoSpacing" style="margin: 0in 0in 0.0001pt\; font-size: 12pt\; font-family: Arial\, sans-serif\;">Part of&nbsp\;<a class="OWAAutoLink" data-auth="NotApplicable" href="https://www.casamchenrycounty.org/littleblackdress" id="OWAfc962ef6-4aac-08bc-92a8-199a89b49285" style="border: 0px\; font: inherit\; margin: 0px\; padding: 0px\; vertical-align: baseline\; color: rgb(5\, 99\, 193)\;">CASA of McHenry County&rsquo\;s</a>&nbsp\;impact on the community is made through the unceasing efforts of our Volunteer Advocates and Program Advocate Managers to continue to learn.</p>\n\n<p class="x_gmail-MsoNoSpacing" style="margin: 0in 0in 0.0001pt\; font-size: 12pt\; font-family: Arial\, sans-serif\;">&nbsp\;</p>\n\n<p class="x_gmail-MsoNoSpacing" style="margin: 0in 0in 0.0001pt\; font-size: 12pt\; font-family: Arial\, sans-serif\;">Therefore\, CASA Staff provides ongoing Info Sessions as well as access to resources and mandatory Continuing Education Credits which help to serve\, educate\, and inform our volunteers.</p>\n\n<p class="x_gmail-MsoNoSpacing" style="margin: 0in 0in 0.0001pt\; font-size: 12pt\; font-family: Arial\, sans-serif\;">&nbsp\;</p>\n\n<p class="x_gmail-MsoNoSpacing" style="margin: 0in 0in 0.0001pt\; font-size: 12pt\; font-family: Arial\, sans-serif\;">Look for the following upcoming sessions:</p>\n\n<p class="x_gmail-MsoNoSpacing" style="margin: 0in 0in 0.0001pt\; font-size: 12pt\; font-family: Arial\, sans-serif\;">&nbsp\;</p>\n\n<p class="x_gmail-MsoNoSpacing" style="margin: 0in 0in 0.0001pt 0.5in\; font-size: 12pt\; font-family: Arial\, sans-serif\;"><span style="border: 0px\; font-style: inherit\; font-variant: inherit\; font-weight: inherit\; font-stretch: inherit\; font-size: inherit\; line-height: inherit\; font-family: Symbol\; font-optical-sizing: inherit\; font-kerning: inherit\; font-feature-settings: inherit\; font-variation-settings: inherit\; margin: 0px\; padding: 0px\; vertical-align: baseline\; color: inherit\;">&middot\;<span style="border: 0px\; font-style: inherit\; font-variant-ligatures: inherit\; font-variant-caps: inherit\; font-variant-numeric: normal\; font-variant-east-asian: normal\; font-variant-alternates: normal\; font-weight: inherit\; font-stretch: normal\; font-size: 7pt\; line-height: normal\; font-family: &quot\;Times New Roman&quot\;\; font-optical-sizing: inherit\; font-kerning: auto\; font-feature-settings: normal\; font-variation-settings: inherit\; margin: 0px\; padding: 0px\; vertical-align: baseline\; color: inherit\;">&nbsp\;&nbsp\;&nbsp\;&nbsp\;&nbsp\;&nbsp\;&nbsp\;</span></span>Info Session - Monday\, August14 @ 7pm on Zoom.</p>\n\n<p class="x_gmail-MsoNoSpacing" style="margin: 0in 0in 0.0001pt 0.5in\; font-size: 12pt\; font-family: Arial\, sans-serif\;"><span style="border: 0px\; font-style: inherit\; font-variant: inherit\; font-weight: inherit\; font-stretch: inherit\; font-size: inherit\; line-height: inherit\; font-family: Symbol\; font-optical-sizing: inherit\; font-kerning: inherit\; font-feature-settings: inherit\; font-variation-settings: inherit\; margin: 0px\; padding: 0px\; vertical-align: baseline\; color: inherit\;">&middot\;<span style="border: 0px\; font-style: inherit\; font-variant-ligatures: inherit\; font-variant-caps: inherit\; font-variant-numeric: normal\; font-variant-east-asian: normal\; font-variant-alternates: normal\; font-weight: inherit\; font-stretch: normal\; font-size: 7pt\; line-height: normal\; font-family: &quot\;Times New Roman&quot\;\; font-optical-sizing: inherit\; font-kerning: auto\; font-feature-settings: normal\; font-variation-settings: inherit\; margin: 0px\; padding: 0px\; vertical-align: baseline\; color: inherit\;">&nbsp\;&nbsp\;&nbsp\;&nbsp\;&nbsp\;&nbsp\;&nbsp\;</span></span>Teen Programs dealing with Complex Mood Disorders offered through Rosencrance.</p>\n\n<p class="x_gmail-MsoNoSpacing" style="margin: 0in 0in 0.0001pt 0.5in\; font-size: 12pt\; font-family: Arial\, sans-serif\;"><span style="border: 0px\; font-style: inherit\; font-variant: inherit\; font-weight: inherit\; font-stretch: inherit\; font-size: inherit\; line-height: inherit\; font-family: Symbol\; font-optical-sizing: inherit\; font-kerning: inherit\; font-feature-settings: inherit\; font-variation-settings: inherit\; margin: 0px\; padding: 0px\; vertical-align: baseline\; color: inherit\;">&middot\;<span style="border: 0px\; font-style: inherit\; font-variant-ligatures: inherit\; font-variant-caps: inherit\; font-variant-numeric: normal\; font-variant-east-asian: normal\; font-variant-alternates: normal\; font-weight: inherit\; font-stretch: normal\; font-size: 7pt\; line-height: normal\; font-family: &quot\;Times New Roman&quot\;\; font-optical-sizing: inherit\; font-kerning: auto\; font-feature-settings: normal\; font-variation-settings: inherit\; margin: 0px\; padding: 0px\; vertical-align: baseline\; color: inherit\;">&nbsp\;&nbsp\;&nbsp\;&nbsp\;&nbsp\;&nbsp\;&nbsp\;</span></span>Workforce Training Classes offered through McHenry County College.</p>\n\n<p class="x_gmail-MsoNoSpacing" style="margin: 0in 0in 0.0001pt 0.25in\; font-size: 12pt\; font-family: Arial\, sans-serif\;">Contact&nbsp\;<a class="OWAAutoLink" href="mailto:Sharie@casamchenrycounty.org?subject=How%20To%20Register%20for%20CASA%20of%20McHenry%20County%20Info%20Sessions." id="OWA4dbd57ff-9fdf-d7cd-2471-23117c1d7801" style="border: 0px\; font: inherit\; margin: 0px\; padding: 0px\; vertical-align: baseline\; color: rgb(5\, 99\, 193)\;">Sharie Dodge</a>&nbsp\;for additional resources and registration information\,</p>\n\n<p class="x_gmail-MsoNoSpacing" style="margin: 0in 0in 0.0001pt 0.25in\; font-size: 12pt\; font-family: Arial\, sans-serif\;">&nbsp\;</p>\n
LOCATION:Remote - by Zoom
UID:e.2066.5394
SEQUENCE:3
DTSTAMP:20260419T121405Z
URL:https://dev.chainolakeschamber.com/events/details/casa-of-mchenry-county-upcoming-informational-sessions-5394
END:VEVENT

END:VCALENDAR
