BEGIN:VCALENDAR
VERSION:2.0
PRODID:-//ChamberMaster//Event Calendar 2.0//EN
METHOD:PUBLISH
X-PUBLISHED-TTL:P3D
REFRESH-INTERVAL:P3D
CALSCALE:GREGORIAN
BEGIN:VEVENT
DTSTART:20230217T010000Z
DTEND:20230217T020000Z
X-MICROSOFT-CDO-ALLDAYEVENT:FALSE
SUMMARY:CASA of McHenry County Informational Session
DESCRIPTION:CASA of McHenry County is hosting an in-person Informational Session! What happens to a child after someone makes a hotline call to protect the child? Explore the child welfare world with the CASA of McHenry County staff. Learn about the court process that brings a child into foster care. Then we will discuss some resources within our county designed to support the child. We will focus on the child's experience in foster care and examine how a CASA can improve the child's experience and move more quickly towards safe permanency. \n\nWhat does an Advocate do?\n\nHow much training is involved?\n\nWhat kind of interactions does an Advocate have with children?\n\n\n\nAll of your questions can be answered!\n\n\n\nRegister here: https://tinyurl.com/yc265mcm
X-ALT-DESC;FMTTYPE=text/html:CASA of McHenry County is hosting an in-person Informational Session!&nbsp\;<span style="font-family: Roboto\, &quot\;sans-serif&quot\;\; font-size: 16px\;">What happens to a child after someone makes a hotline call to protect the child?&nbsp\;Explore the child welfare world with the CASA of McHenry County staff. Learn about the court process that brings a child into foster care. Then we will discuss some resources within our county designed to support the child. We will focus on the child&rsquo\;s experience in foster care and examine how a CASA can improve the child&rsquo\;s experience and move more quickly towards safe permanency.&nbsp\;</span>\n<div class="x11i5rnm xat24cr x1mh8g0r x1vvkbs xtlvy1s x126k92a" style="margin: 0.5em 0px 0px\; white-space: pre-wrap\; overflow-wrap: break-word\; font-family: &quot\;Segoe UI Historic&quot\;\, &quot\;Segoe UI&quot\;\, Helvetica\, Arial\, sans-serif\; color: rgb(5\, 5\, 5)\; font-size: 15px\;">\n<div dir="auto" style="font-family: inherit\;">What does an Advocate do?</div>\n\n<div dir="auto" style="font-family: inherit\;">How much training is involved?</div>\n\n<div dir="auto" style="font-family: inherit\;">What kind of interactions does an Advocate have with children?</div>\n</div>\n\n<div class="x11i5rnm xat24cr x1mh8g0r x1vvkbs xtlvy1s x126k92a" style="margin: 0.5em 0px 0px\; white-space: pre-wrap\; overflow-wrap: break-word\; font-family: &quot\;Segoe UI Historic&quot\;\, &quot\;Segoe UI&quot\;\, Helvetica\, Arial\, sans-serif\; color: rgb(5\, 5\, 5)\; font-size: 15px\;">\n<div dir="auto" style="font-family: inherit\;">All of your questions can be answered!</div>\n</div>\n\n<div class="x11i5rnm xat24cr x1mh8g0r x1vvkbs xtlvy1s x126k92a" style="margin: 0.5em 0px 0px\; white-space: pre-wrap\; overflow-wrap: break-word\; font-family: &quot\;Segoe UI Historic&quot\;\, &quot\;Segoe UI&quot\;\, Helvetica\, Arial\, sans-serif\; color: rgb(5\, 5\, 5)\; font-size: 15px\;">\n<div dir="auto" style="font-family: inherit\;">Register here: https://tinyurl.com/yc265mcm</div>\n</div>\n
LOCATION:McHenry Public Library 809 Front Street McHenry IL
UID:e.2066.4965
SEQUENCE:3
DTSTAMP:20260419T223058Z
URL:https://dev.chainolakeschamber.com/events/details/casa-of-mchenry-county-informational-session-4965
END:VEVENT

END:VCALENDAR
