BEGIN:VCALENDAR
VERSION:2.0
PRODID:-//ChamberMaster//Event Calendar 2.0//EN
METHOD:PUBLISH
X-PUBLISHED-TTL:P3D
REFRESH-INTERVAL:P3D
CALSCALE:GREGORIAN
BEGIN:VEVENT
DTSTART:20220914T120000Z
DTEND:20220914T133000Z
X-MICROSOFT-CDO-ALLDAYEVENT:FALSE
SUMMARY:CASA Light of Hope Breakfast
DESCRIPTION:CASA of McHenry County invites you to learn about our mission to support and protect children in foster care at our Light of Hope Breakfast.\n\n\n\nThis year's keynote speaker is Alex Gomez and her CASA Shannon. Alex's story begins with advocating for herself and ends in a beautiful friendship.\n\n\n\nPlease join us and learn how you can BE THERE for children in our community\,\n\n\n\nTickets available August 3 at https://www.casamchenrycounty.org/lightofhope
X-ALT-DESC;FMTTYPE=text/html:<span style="font-size:14px\;"><span style="color: rgb(69\, 69\, 69)\; font-family: Verdana\, Arial\, Helvetica\, sans-serif\; background-color: rgb(251\, 251\, 249)\;">CASA of McHenry County invites you to learn about our mission to support and protect children in foster care at our Light of Hope Breakfast.</span><br style="box-sizing: border-box\; margin: 0px\; padding: 0px\; color: rgb(69\, 69\, 69)\; font-family: Verdana\, Arial\, Helvetica\, sans-serif\; font-size: 17px\; background-color: rgb(251\, 251\, 249)\;" />\n<br style="box-sizing: border-box\; margin: 0px\; padding: 0px\; color: rgb(69\, 69\, 69)\; font-family: Verdana\, Arial\, Helvetica\, sans-serif\; font-size: 17px\; background-color: rgb(251\, 251\, 249)\;" />\n<span style="color: rgb(69\, 69\, 69)\; font-family: Verdana\, Arial\, Helvetica\, sans-serif\; background-color: rgb(251\, 251\, 249)\;">This year&#39\;s keynote speaker is Alex Gomez and her CASA Shannon. Alex&#39\;s story begins with advocating for herself and ends in a beautiful friendship.</span><br style="box-sizing: border-box\; margin: 0px\; padding: 0px\; color: rgb(69\, 69\, 69)\; font-family: Verdana\, Arial\, Helvetica\, sans-serif\; font-size: 17px\; background-color: rgb(251\, 251\, 249)\;" />\n<br style="box-sizing: border-box\; margin: 0px\; padding: 0px\; color: rgb(69\, 69\, 69)\; font-family: Verdana\, Arial\, Helvetica\, sans-serif\; font-size: 17px\; background-color: rgb(251\, 251\, 249)\;" />\n<span style="color: rgb(69\, 69\, 69)\; font-family: Verdana\, Arial\, Helvetica\, sans-serif\; background-color: rgb(251\, 251\, 249)\;">Please join us and learn how you can BE THERE for children in our community\,</span><br style="box-sizing: border-box\; margin: 0px\; padding: 0px\; color: rgb(69\, 69\, 69)\; font-family: Verdana\, Arial\, Helvetica\, sans-serif\; font-size: 17px\; background-color: rgb(251\, 251\, 249)\;" />\n<br style="box-sizing: border-box\; margin: 0px\; padding: 0px\; color: rgb(69\, 69\, 69)\; font-family: Verdana\, Arial\, Helvetica\, sans-serif\; font-size: 17px\; background-color: rgb(251\, 251\, 249)\;" />\n<span style="color: rgb(69\, 69\, 69)\; font-family: Verdana\, Arial\, Helvetica\, sans-serif\; background-color: rgb(251\, 251\, 249)\;">Tickets available August 3 at&nbsp\;</span>https://www.casamchenrycounty.org/lightofhope</span>
LOCATION:Boulder Ridge Country Club\, 350 Boulder Dr\, Lake in the Hills
UID:e.2066.4597
SEQUENCE:3
DTSTAMP:20260422T121139Z
URL:https://dev.chainolakeschamber.com/events/details/casa-light-of-hope-breakfast-4597
END:VEVENT

END:VCALENDAR
