BEGIN:VCALENDAR
VERSION:2.0
PRODID:-//ChamberMaster//Event Calendar 2.0//EN
METHOD:PUBLISH
X-PUBLISHED-TTL:P3D
REFRESH-INTERVAL:P3D
CALSCALE:GREGORIAN
BEGIN:VEVENT
DTSTART:20191224T230000Z
DTEND:20191225T000000Z
X-MICROSOFT-CDO-ALLDAYEVENT:FALSE
SUMMARY:Candlelight Christmas Eve Service
DESCRIPTION:Please join us for a service of beautiful music and reflection of our Savior's birth on December 24th at 5 p.m.   Joyful Spirit is a very welcoming congregation\, seeking to connect with our neighbors in both fellowship and His Spirit.  \n\nA warm welcome to - all and all means all -who are gathered to worship our Lord and Savior Jesus Christ\n\n\n\nJoyful Spirit Church\n\n36325 Maple\n\nIngleside\, IL  60041\n\n\n\nA Methodist Congregation
X-ALT-DESC;FMTTYPE=text/html:<span style="background-color:rgb(255\, 255\, 255)\; color:rgb(20\, 23\, 26)\; font-family:system-ui\,-apple-system\,blinkmacsystemfont\,segoe ui\,roboto\,ubuntu\,helvetica neue\,sans-serif\; font-size:19px"><span style="font-size:12px">Please join us for a service of beautiful music and reflection of our Savior&#39\;s birth on December 24th at 5 p.m. </span></span><span style="font-size:12px">&nbsp\; Joyful Spirit is a very welcoming congregation\, seeking to connect with our neighbors in both fellowship and His Spirit.&nbsp\;&nbsp\;<br />\nA warm welcome to - all and all means all -who are gathered to worship our Lord and Savior Jesus Christ<br />\n<br />\nJoyful Spirit Church<br />\n36325 Maple<br />\nIngleside\, IL&nbsp\; 60041<br />\n<br />\nA Methodist Congregation</span>
LOCATION:
UID:e.2066.3176
SEQUENCE:3
DTSTAMP:20260424T185820Z
URL:https://dev.chainolakeschamber.com/events/details/candlelight-christmas-eve-service-3176
END:VEVENT

END:VCALENDAR
