BEGIN:VCALENDAR
VERSION:2.0
PRODID:-//ChamberMaster//Event Calendar 2.0//EN
METHOD:PUBLISH
X-PUBLISHED-TTL:P3D
REFRESH-INTERVAL:P3D
CALSCALE:GREGORIAN
BEGIN:VEVENT
DTSTART:20210421T130000Z
DTEND:20210421T170000Z
X-MICROSOFT-CDO-ALLDAYEVENT:FALSE
SUMMARY:Calming the Storm: How to Deal Logically with Customer Emotion
DESCRIPTION:If customers feel a service was not excellent\, they might not only stop being your customers\, they might even take actions to negatively impact your business with future customers! In fact\, on average\, disappointed customers discuss their negative experiences with at least 9 people. And if posted on social media\, that impact grows greatly and can be devastating. Ironically\, these bad experiences can actually be good news: It's a moment of truth to solidify the customer relationship. That is\, research supports most "satisfied" customers don't evolve into "wowed" customers until something goes wrong and you handle it smoothly! In this four-hour workshop\, you will learn practical steps to deal with customer anger\, frustration and even belligerence that results in satisfying both you and your customer.
X-ALT-DESC;FMTTYPE=text/html:If customers feel a service was not excellent\, they might not only stop being your customers\, they might even take actions to negatively impact your business with future customers! In fact\, on average\, disappointed customers discuss their negative experiences with at least 9 people. And if posted on social media\, that impact grows greatly and can be devastating. Ironically\, these bad experiences can actually be good news: It&#39\;s a moment of truth to solidify the customer relationship. That is\, research supports most &quot\;satisfied&quot\; customers don&#39\;t evolve into &quot\;wowed&quot\; customers until something goes wrong and you handle it smoothly! In this four-hour workshop\, you will learn practical steps to deal with customer anger\, frustration and even belligerence that results in satisfying both you and your customer.
LOCATION:Live Zoom
UID:e.2066.3920
SEQUENCE:3
DTSTAMP:20260423T160319Z
URL:https://dev.chainolakeschamber.com/events/details/calming-the-storm-how-to-deal-logically-with-customer-emotion-3920
END:VEVENT

END:VCALENDAR
