BEGIN:VCALENDAR
VERSION:2.0
PRODID:-//ChamberMaster//Event Calendar 2.0//EN
METHOD:PUBLISH
X-PUBLISHED-TTL:P3D
REFRESH-INTERVAL:P3D
CALSCALE:GREGORIAN
BEGIN:VEVENT
DTSTART:20210521T190000Z
DTEND:20210521T210000Z
X-MICROSOFT-CDO-ALLDAYEVENT:FALSE
SUMMARY:Ca$h Mob at Lakeland Bakery & Deli
DESCRIPTION:
X-ALT-DESC;FMTTYPE=text/html:
LOCATION:Lakeland Bakery & Deli
UID:e.2066.3947
SEQUENCE:3
DTSTAMP:20260423T143351Z
URL:https://dev.chainolakeschamber.com/events/details/ca-h-mob-at-lakeland-bakery-deli-3947
END:VEVENT

END:VCALENDAR
