BEGIN:VCALENDAR
VERSION:2.0
PRODID:-//ChamberMaster//Event Calendar 2.0//EN
METHOD:PUBLISH
X-PUBLISHED-TTL:P3D
REFRESH-INTERVAL:P3D
CALSCALE:GREGORIAN
BEGIN:VEVENT
DTSTART:20181127T173000Z
DTEND:20181127T190000Z
X-MICROSOFT-CDO-ALLDAYEVENT:FALSE
SUMMARY:Business Member Luncheon at KC's Cabin
DESCRIPTION:Tuesday\, November 27\, 2018\n\n			Time:  11:30 am for networking opportunities\n\n			\n\n			\n\n			12 noon for luncheon \n\n			\n\n			Guest Speaker:  Bonnie Richtman\n\n			Peak Performance/Action Coach\n\n			\n\n			 \n		\n		\n			Cost is $15 per person by Friday\, November 23\, 2018\n\n			Bring your Business Cards!
X-ALT-DESC;FMTTYPE=text/html:<table border="0" cellpadding="0" cellspacing="0" style="width:560px\;" width="560">\n	<tbody>\n		<tr>\n			<td style="padding:.75pt .75pt .75pt .75pt\;"><strong><span style="font-family:arial\,sans-serif\;"><span style="font-size:10.0pt\;">Tuesday\, November 27\, 2018</span></span></strong><br />\n			<strong><span style="font-family:arial\,sans-serif\;"><span style="font-size:10.0pt\;">Time:&nbsp\; 11:30 am for networking opportunities</span></span></strong><br />\n			<br />\n			<br />\n			<strong><span style="font-family:arial\,sans-serif\;"><span style="font-size:10.0pt\;"><strong><span style="font-family:arial\,sans-serif\;">12 noon for luncheon&nbsp\;</span></strong><br />\n			<br />\n			<strong><span style="font-family:arial\,sans-serif\;">Guest Speaker:&nbsp\; Bonnie Richtman</span></strong></span></span></strong><br />\n			<strong><span style="font-family:arial\,sans-serif\;"><span style="font-size:9.0pt\;">Peak Performance/Action Coach</span></span></strong><br />\n			<br />\n			&nbsp\;</td>\n		</tr>\n		<tr>\n			<td style="padding:.75pt .75pt .75pt .75pt\;"><span style="font-size:14px\;"><strong><span style="font-family:arial\,sans-serif\;">Cost is $15&nbsp\;per person&nbsp\;by Friday\, November 23\, 2018</span></strong><br />\n			<strong><span style="font-family:arial\,sans-serif\;"><strong><span style="font-family:arial\,sans-serif\;">Bring your Business Cards!</span></strong></span></strong></span></td>\n		</tr>\n	</tbody>\n</table>\n
LOCATION:KC's Cabin 309 IL-173 Spring Grove\, IL 60081
UID:e.2066.1684
SEQUENCE:3
DTSTAMP:20260425T163926Z
URL:https://dev.chainolakeschamber.com/events/details/business-member-luncheon-at-kc-s-cabin-1684
END:VEVENT

END:VCALENDAR
