BEGIN:VCALENDAR
VERSION:2.0
PRODID:-//ChamberMaster//Event Calendar 2.0//EN
METHOD:PUBLISH
X-PUBLISHED-TTL:P3D
REFRESH-INTERVAL:P3D
CALSCALE:GREGORIAN
BEGIN:VEVENT
DTSTART:20190718T163000Z
DTEND:20190718T180000Z
X-MICROSOFT-CDO-ALLDAYEVENT:FALSE
SUMMARY:Business in the Park
DESCRIPTION:Multi Chamber Luncheon\n\n\n\nRound Lake Area Chamber of Commerce\n\nGrayslake Area Chamber of Commerce\n\nFox Lake Richmond Spring Grove Area Chamber of Commerce\n\nChamber of Commerce Lindenhurst & Lake Villa\n\n\n\nMUST RSVP by July 15 please call Round Lake Area Chamber at 847-546-2002 or email at info@rlchamber.org
X-ALT-DESC;FMTTYPE=text/html:Multi Chamber Luncheon<br />\n<br />\nRound Lake Area Chamber of Commerce<br />\nGrayslake Area Chamber of Commerce<br />\nFox Lake Richmond Spring Grove Area Chamber of Commerce<br />\nChamber of Commerce Lindenhurst &amp\; Lake Villa<br />\n<br />\n<span style="font-size:26px\;">MUST RSVP by July 15 please call Round Lake Area Chamber at 847-546-2002 or email at <span itemprop="organizer">info@rlchamber.org</span></span>
LOCATION:Round Lake Park District Sports Center 2004 Municipal Way Round Lake Beach (off of Hook Drive- behind the Post Office)
UID:e.2066.2202
SEQUENCE:3
DTSTAMP:20260425T022343Z
URL:https://dev.chainolakeschamber.com/events/details/business-in-the-park-2202
END:VEVENT

END:VCALENDAR
