BEGIN:VCALENDAR
VERSION:2.0
PRODID:-//ChamberMaster//Event Calendar 2.0//EN
METHOD:PUBLISH
X-PUBLISHED-TTL:P3D
REFRESH-INTERVAL:P3D
CALSCALE:GREGORIAN
BEGIN:VEVENT
DTSTART:20210924T130000Z
DTEND:20210924T141500Z
X-MICROSOFT-CDO-ALLDAYEVENT:FALSE
SUMMARY:Business & Breakfast at 8:00 am
DESCRIPTION:Join our industry exclusive morning networking group\n\n\n\nWe meet on the second and Fourth Fridays at 8:00 AM. Locations change
X-ALT-DESC;FMTTYPE=text/html:Join our industry exclusive morning networking group<br />\n<br />\nWe meet on the second and Fourth Fridays at 8:00 AM. Locations change
LOCATION:Midwest Breakfast Co Rt 12 Spring Grove
UID:e.2066.4151
SEQUENCE:3
DTSTAMP:20260423T083156Z
URL:https://dev.chainolakeschamber.com/events/details/business-breakfast-at-8-00-am-4151
END:VEVENT

END:VCALENDAR
