BEGIN:VCALENDAR
VERSION:2.0
PRODID:-//ChamberMaster//Event Calendar 2.0//EN
METHOD:PUBLISH
X-PUBLISHED-TTL:P3D
REFRESH-INTERVAL:P3D
CALSCALE:GREGORIAN
BEGIN:VEVENT
DTSTART:20210514T130000Z
DTEND:20210514T141500Z
X-MICROSOFT-CDO-ALLDAYEVENT:FALSE
SUMMARY:Business & Breakfast at 8:00 am
DESCRIPTION:Join our industry exclusive morning networking group\n\n\n\nWe meet on the Second and Fourth Fridays at 8:00 AM.
X-ALT-DESC;FMTTYPE=text/html:Join our industry exclusive morning networking group<br />\n<br />\nWe meet on the Second and Fourth Fridays at 8:00 AM.<br />\n&nbsp\;
LOCATION:May 14 at Diamond Deli on Rt 12 in Fox Lake
UID:e.2066.3432
SEQUENCE:3
DTSTAMP:20260423T145343Z
URL:https://dev.chainolakeschamber.com/events/details/business-breakfast-at-8-00-am-05-14-2021-3432
END:VEVENT

END:VCALENDAR
