BEGIN:VCALENDAR
VERSION:2.0
PRODID:-//ChamberMaster//Event Calendar 2.0//EN
METHOD:PUBLISH
X-PUBLISHED-TTL:P3D
REFRESH-INTERVAL:P3D
CALSCALE:GREGORIAN
BEGIN:VEVENT
DTSTART:20180628T220000Z
DTEND:20180629T000000Z
X-MICROSOFT-CDO-ALLDAYEVENT:FALSE
SUMMARY:Business after Hours @ Watlow
DESCRIPTION:Business After Hours gives you an opportunity to meet others from the community\n\n\n\nDid you know Watlow is hiring for all three shifts?\n\n\n\nDid you know Watlow offers free school- on premise?\n\n\n\nCome and learn what Watlow has done for the community
X-ALT-DESC;FMTTYPE=text/html:Business After Hours gives you an opportunity to meet others from the community<br />\n<br />\nDid you know Watlow is hiring for all three shifts?<br />\n<br />\nDid you know Watlow offers free school- on premise?<br />\n<br />\nCome and learn what Watlow has done for the community&nbsp\;
LOCATION:Watlow 5710 Kenosha Street\, Richmond IL one block West of Main St (rt 12) on Kenosha St (rt 173)
UID:e.2066.1099
SEQUENCE:3
DTSTAMP:20260425T221759Z
URL:https://dev.chainolakeschamber.com/events/details/business-after-hours-watlow-1099
END:VEVENT

END:VCALENDAR
