BEGIN:VCALENDAR
VERSION:2.0
PRODID:-//ChamberMaster//Event Calendar 2.0//EN
METHOD:PUBLISH
X-PUBLISHED-TTL:P3D
REFRESH-INTERVAL:P3D
CALSCALE:GREGORIAN
BEGIN:VEVENT
DTSTART:20211019T220000Z
DTEND:20211020T000000Z
X-MICROSOFT-CDO-ALLDAYEVENT:FALSE
SUMMARY:Business After Hours - Performance Unlimited
DESCRIPTION:Bring plenty of business cards.
X-ALT-DESC;FMTTYPE=text/html:Bring plenty of business cards.
LOCATION:
UID:e.2066.4159
SEQUENCE:3
DTSTAMP:20260423T083147Z
URL:https://dev.chainolakeschamber.com/events/details/business-after-hours-performance-unlimited-4159
END:VEVENT

END:VCALENDAR
