BEGIN:VCALENDAR
VERSION:2.0
PRODID:-//ChamberMaster//Event Calendar 2.0//EN
METHOD:PUBLISH
X-PUBLISHED-TTL:P3D
REFRESH-INTERVAL:P3D
CALSCALE:GREGORIAN
BEGIN:VEVENT
DTSTART:20210420T213000Z
DTEND:20210420T230000Z
X-MICROSOFT-CDO-ALLDAYEVENT:FALSE
SUMMARY:Business After Hours - Lucky Bernie's- Spring Grove
DESCRIPTION:Business After Hours is casual networking
X-ALT-DESC;FMTTYPE=text/html:Business After Hours is casual networking
LOCATION:Lucky Bernie's - Spring Grove 2450 Rt 12 Spring Grove\, IL
UID:e.2066.3941
SEQUENCE:3
DTSTAMP:20260423T160228Z
URL:https://dev.chainolakeschamber.com/events/details/business-after-hours-lucky-bernie-s-spring-grove-3941
END:VEVENT

END:VCALENDAR
