BEGIN:VCALENDAR
VERSION:2.0
PRODID:-//ChamberMaster//Event Calendar 2.0//EN
METHOD:PUBLISH
X-PUBLISHED-TTL:P3D
REFRESH-INTERVAL:P3D
CALSCALE:GREGORIAN
BEGIN:VEVENT
DTSTART:20180726T160000Z
DTEND:20180726T170000Z
X-MICROSOFT-CDO-ALLDAYEVENT:FALSE
SUMMARY:Burgers and Bears
DESCRIPTION:Join author Joni Downey at Stucky's in Johnsburg to paint Behavior Bear on canvas with your child! You must register to attend at https://www.charactersofcharacter.org/events.html Then stick around to enjoy their $1.00 burgers!
X-ALT-DESC;FMTTYPE=text/html:Join author Joni Downey at Stucky&#39\;s in Johnsburg to paint Behavior Bear on canvas with your child! You must register to attend at https://www.charactersofcharacter.org/events.html Then stick around to enjoy their $1.00 burgers!
LOCATION:Stucky's in Johnsburg
UID:e.2066.1182
SEQUENCE:3
DTSTAMP:20260425T204040Z
URL:https://dev.chainolakeschamber.com/events/details/burgers-and-bears-1182
END:VEVENT

END:VCALENDAR
