BEGIN:VCALENDAR
VERSION:2.0
PRODID:-//ChamberMaster//Event Calendar 2.0//EN
METHOD:PUBLISH
X-PUBLISHED-TTL:P3D
REFRESH-INTERVAL:P3D
CALSCALE:GREGORIAN
BEGIN:VEVENT
DTSTART:20230330T150000Z
DTEND:20230330T154500Z
X-MICROSOFT-CDO-ALLDAYEVENT:FALSE
SUMMARY:Build Business Credit and STOP Using Personal Guarantees
DESCRIPTION:The presentation teaches business owners the differences between personal credit and business credit. The topics coved are: how business credit is built\, the benefits of business credit and the risks of personal guarantees. Topics include:   How business credit is built   The benefits of business credit   Risk of personal guarantees
X-ALT-DESC;FMTTYPE=text/html:The presentation teaches business owners the differences between personal credit and business credit. The topics coved are: how business credit is built\, the benefits of business credit and the risks of personal guarantees. Topics include: &bull\; How business credit is built &bull\; The benefits of business credit &bull\; Risk of personal guarantees
LOCATION:Live Zoom
UID:e.2066.5038
SEQUENCE:3
DTSTAMP:20260419T223124Z
URL:https://dev.chainolakeschamber.com/events/details/build-business-credit-and-stop-using-personal-guarantees-5038
END:VEVENT

END:VCALENDAR
