BEGIN:VCALENDAR
VERSION:2.0
PRODID:-//ChamberMaster//Event Calendar 2.0//EN
METHOD:PUBLISH
X-PUBLISHED-TTL:P3D
REFRESH-INTERVAL:P3D
CALSCALE:GREGORIAN
BEGIN:VEVENT
DTSTART:20210319T140000Z
DTEND:20210319T160000Z
X-MICROSOFT-CDO-ALLDAYEVENT:FALSE
SUMMARY:Budgets & Financial Reports
DESCRIPTION:Money matters can be intimidating for even the smartest people. However\, having a solid understanding of basic financial terms and methods is crucial to your career. When terms like ROI\, EBIT\, GAAP\, and extrapolation join the conversation\, you'll want to know what people are talking about\, and you'll want to be able to participate in the discussion. We'll cover topics like commonly used terms\, financial statements\, budgets\, forecasting\, purchasing decisions\, and financial legislation.
X-ALT-DESC;FMTTYPE=text/html:Money matters can be intimidating for even the smartest people. However\, having a solid understanding of basic financial terms and methods is crucial to your career. When terms like ROI\, EBIT\, GAAP\, and extrapolation join the conversation\, you&#39\;ll want to know what people are talking about\, and you&#39\;ll want to be able to participate in the discussion. We&#39\;ll cover topics like commonly used terms\, financial statements\, budgets\, forecasting\, purchasing decisions\, and financial legislation.
LOCATION:Live Zoom
UID:e.2066.3873
SEQUENCE:3
DTSTAMP:20260423T174231Z
URL:https://dev.chainolakeschamber.com/events/details/budgets-financial-reports-3873
END:VEVENT

END:VCALENDAR
