BEGIN:VCALENDAR
VERSION:2.0
PRODID:-//ChamberMaster//Event Calendar 2.0//EN
METHOD:PUBLISH
X-PUBLISHED-TTL:P3D
REFRESH-INTERVAL:P3D
CALSCALE:GREGORIAN
BEGIN:VEVENT
DTSTART:20220517T140000Z
DTEND:20220517T160000Z
X-MICROSOFT-CDO-ALLDAYEVENT:FALSE
SUMMARY:Branding Blueprint 101 Elevate Your Brand\, Grow Your Business
DESCRIPTION:Think like a Chief Marketing Officer (CMO) to create a personal brand for your company\, product portfolio and leadership team. Highlight your key offerings to potential clients to help you win business\, standout from your competitors and reach your business goals.
X-ALT-DESC;FMTTYPE=text/html:Think like a Chief Marketing Officer (CMO) to create a personal brand for your company\, product portfolio and leadership team. Highlight your key offerings to potential clients to help you win business\, standout from your competitors and reach your business goals.
LOCATION:Virtual Live
UID:e.2066.4501
SEQUENCE:3
DTSTAMP:20260422T191328Z
URL:https://dev.chainolakeschamber.com/events/details/branding-blueprint-101-elevate-your-brand-grow-your-business-4501
END:VEVENT

END:VCALENDAR
