BEGIN:VCALENDAR
VERSION:2.0
PRODID:-//ChamberMaster//Event Calendar 2.0//EN
METHOD:PUBLISH
X-PUBLISHED-TTL:P3D
REFRESH-INTERVAL:P3D
CALSCALE:GREGORIAN
BEGIN:VEVENT
DTSTART:20210420T140000Z
DTEND:20210420T160000Z
X-MICROSOFT-CDO-ALLDAYEVENT:FALSE
SUMMARY:Bootstrapping: How to fund the early stages of your business
DESCRIPTION:Bootstrapping is how the great majority of small business startups are funded. Studies show 90%+ of all start-ups are funded by the entrepreneur's resources and internal cash flows from the business itself. Most start-ups get going using a combination of bootstrapping methods\, and many highly effective small businesses continue to fund their own growth internally by continuing to use these methods. Bootstrapping is not "going without". Instead\, it's finding creative ways to use limited resources to launch and grow businesses.
X-ALT-DESC;FMTTYPE=text/html:Bootstrapping is how the great majority of small business startups are funded. Studies show 90%+ of all start-ups are funded by the entrepreneur&#39\;s resources and internal cash flows from the business itself. Most start-ups get going using a combination of bootstrapping methods\, and many highly effective small businesses continue to fund their own growth internally by continuing to use these methods. Bootstrapping is not &quot\;going without&quot\;. Instead\, it&rsquo\;s finding creative ways to use limited resources to launch and grow businesses.
LOCATION:Live Zoom
UID:e.2066.3919
SEQUENCE:3
DTSTAMP:20260423T160406Z
URL:https://dev.chainolakeschamber.com/events/details/bootstrapping-how-to-fund-the-early-stages-of-your-business-3919
END:VEVENT

END:VCALENDAR
