BEGIN:VCALENDAR
VERSION:2.0
PRODID:-//ChamberMaster//Event Calendar 2.0//EN
METHOD:PUBLISH
X-PUBLISHED-TTL:P3D
REFRESH-INTERVAL:P3D
CALSCALE:GREGORIAN
BEGIN:VEVENT
DTSTART:20210223T140000Z
DTEND:20210223T153000Z
X-MICROSOFT-CDO-ALLDAYEVENT:FALSE
SUMMARY:Bootstrapping for Small Business
DESCRIPTION:Before seeking external funding\, businesses should consider potentially hidden\, internal sources of cash. Our goal is to provide small businesses with ways to use existing\, internal resources of a business to generate cash and solve business problems\, also known as Bootstrapping.
X-ALT-DESC;FMTTYPE=text/html:Before seeking external funding\, businesses should consider potentially hidden\, internal sources of cash. Our goal is to provide small businesses with ways to use existing\, internal resources of a business to generate cash and solve business problems\, also known as Bootstrapping.
LOCATION:Live Zoom
UID:e.2066.3698
SEQUENCE:3
DTSTAMP:20260423T193503Z
URL:https://dev.chainolakeschamber.com/events/details/bootstrapping-for-small-business-02-23-2021-3698
END:VEVENT

END:VCALENDAR
