BEGIN:VCALENDAR
VERSION:2.0
PRODID:-//ChamberMaster//Event Calendar 2.0//EN
METHOD:PUBLISH
X-PUBLISHED-TTL:P3D
REFRESH-INTERVAL:P3D
CALSCALE:GREGORIAN
BEGIN:VEVENT
DTSTART:20220526T140000Z
DTEND:20220526T144500Z
X-MICROSOFT-CDO-ALLDAYEVENT:FALSE
SUMMARY:Boosting Business by Boosting Benefits
DESCRIPTION:Benefits in business can - and should - mean much more than strictly compensation and health care coverage. Employees are seeking workplaces that value more than the bottom line\, and offer additional ways of supporting holistic well-being of workers. Offering more than a paycheck\, medical and dental goes a long way to making a company more attractive. This workshop includes open consultation to all participants from 10 a.m. to 1 p.m.
X-ALT-DESC;FMTTYPE=text/html:Benefits in business can - and should - mean much more than strictly compensation and health care coverage. Employees are seeking workplaces that value more than the bottom line\, and offer additional ways of supporting holistic well-being of workers. Offering more than a paycheck\, medical and dental goes a long way to making a company more attractive. This workshop includes open consultation to all participants from 10 a.m. to 1 p.m.
LOCATION:Virtual Live
UID:e.2066.4505
SEQUENCE:3
DTSTAMP:20260422T190708Z
URL:https://dev.chainolakeschamber.com/events/details/boosting-business-by-boosting-benefits-4505
END:VEVENT

END:VCALENDAR
