BEGIN:VCALENDAR
VERSION:2.0
PRODID:-//ChamberMaster//Event Calendar 2.0//EN
METHOD:PUBLISH
X-PUBLISHED-TTL:P3D
REFRESH-INTERVAL:P3D
CALSCALE:GREGORIAN
BEGIN:VEVENT
DTSTART:20221025T140000Z
DTEND:20221025T160000Z
X-MICROSOFT-CDO-ALLDAYEVENT:FALSE
SUMMARY:Boosting Business by Boosting Benefits
DESCRIPTION:The #1 item cited on Glassdoor's 2021 and 2022 Top 100 Employers survey was benefits. Getting creative and going beyond a medical/dental plan pays off for companies who make workplace wellness a priority. Benefits in business can - and should - mean much more than strictly compensation and health care coverage. Employees are seeking workplaces that value more than the bottom line\, and offer additional ways of supporting holistic well-being of workers. Offering more than a paycheck\, medical and dental goes a long way to making a company more attractive.
X-ALT-DESC;FMTTYPE=text/html:The #1 item cited on Glassdoor&rsquo\;s 2021 and 2022 Top 100 Employers survey was benefits. Getting creative and going beyond a medical/dental plan pays off for companies who make workplace wellness a priority. Benefits in business can - and should - mean much more than strictly compensation and health care coverage. Employees are seeking workplaces that value more than the bottom line\, and offer additional ways of supporting holistic well-being of workers. Offering more than a paycheck\, medical and dental goes a long way to making a company more attractive.
LOCATION:Live Zoom
UID:e.2066.4617
SEQUENCE:3
DTSTAMP:20260422T111421Z
URL:https://dev.chainolakeschamber.com/events/details/boosting-business-by-boosting-benefits-10-25-2022-4617
END:VEVENT

END:VCALENDAR
