BEGIN:VCALENDAR
VERSION:2.0
PRODID:-//ChamberMaster//Event Calendar 2.0//EN
METHOD:PUBLISH
X-PUBLISHED-TTL:P3D
REFRESH-INTERVAL:P3D
CALSCALE:GREGORIAN
BEGIN:VEVENT
DTSTART:20230523T220000Z
DTEND:20230524T000000Z
X-MICROSOFT-CDO-ALLDAYEVENT:FALSE
SUMMARY:Boat House Chamber Mixer
DESCRIPTION:The Boat House in Johnsburg is hosting a mixer with JABA and the Chain O'Lakes Area Chamber of Commerce!\n\nJoin us for a fun-filled evening on the water with snacks\, drinks and great company!
X-ALT-DESC;FMTTYPE=text/html:The Boat House in Johnsburg is hosting a mixer with JABA and the Chain O&#39\;Lakes Area Chamber of Commerce!<br />\nJoin us for a fun-filled evening on the water with snacks\, drinks and great company!&nbsp\;&nbsp\;&nbsp\;&nbsp\;<br />\n&nbsp\;
LOCATION:The Boat House Chicago 515 Bald Knob Rd Johnsburg IL
UID:e.2066.5119
SEQUENCE:3
DTSTAMP:20260419T172214Z
URL:https://dev.chainolakeschamber.com/events/details/boat-house-chamber-mixer-5119
END:VEVENT

END:VCALENDAR
